Package: CompoundDb Version: 1.13.0 Command: /home/rapidbuild/bbs-3.22-bioc-rapid/R/bin/R CMD check --install=check:CompoundDb.install-out.txt --library=/home/rapidbuild/bbs-3.22-bioc-rapid/R/site-library --timings CompoundDb_1.13.0.tar.gz StartedAt: 2025-06-17 20:15:24 -0400 (Tue, 17 Jun 2025) EndedAt: 2025-06-17 20:18:00 -0400 (Tue, 17 Jun 2025) EllapsedTime: 156.1 seconds RetCode: 0 Status: OK CheckDir: CompoundDb.Rcheck Warnings: 0