Package: CytoML Version: 2.21.0 Command: /home/rapidbuild/bbs-3.22-bioc-rapid/R/bin/R CMD check --install=check:CytoML.install-out.txt --library=/home/rapidbuild/bbs-3.22-bioc-rapid/R/site-library --timings CytoML_2.21.0.tar.gz StartedAt: 2025-06-17 20:16:16 -0400 (Tue, 17 Jun 2025) EndedAt: 2025-06-17 20:18:59 -0400 (Tue, 17 Jun 2025) EllapsedTime: 163.1 seconds RetCode: 0 Status: WARNINGS CheckDir: CytoML.Rcheck Warnings: 5