Package: DECIPHER Version: 3.5.0 Command: /home/rapidbuild/bbs-3.22-bioc-rapid/R/bin/R CMD build --keep-empty-dirs --no-resave-data DECIPHER StartedAt: 2025-06-17 18:42:05 -0400 (Tue, 17 Jun 2025) EndedAt: 2025-06-17 18:56:10 -0400 (Tue, 17 Jun 2025) EllapsedTime: 845.8 seconds RetCode: 0 Status: OK PackageFile: DECIPHER_3.5.0.tar.gz PackageFileSize: 17.84 MiB