Package: DESeq2 Version: 1.49.2 Maintainer: Michael Love MaintainerEmail: michaelisaiahlove at gmail.com git_url: https://git.bioconductor.org/packages/DESeq2 git_branch: devel git_last_commit: f0e22e3 git_last_commit_date: 2025-06-05 10:01:06 -0400 (Thu, 05 Jun 2025)