Package: DESeq2 Version: 1.49.2 Command: /home/rapidbuild/bbs-3.22-bioc-rapid/R/bin/R CMD build --keep-empty-dirs --no-resave-data DESeq2 StartedAt: 2025-06-17 18:44:06 -0400 (Tue, 17 Jun 2025) EndedAt: 2025-06-17 18:45:43 -0400 (Tue, 17 Jun 2025) EllapsedTime: 97.3 seconds RetCode: 0 Status: OK PackageFile: DESeq2_1.49.2.tar.gz PackageFileSize: 2.56 MiB