Package: DESeq2 Version: 1.49.2 Command: /home/rapidbuild/bbs-3.22-bioc-rapid/R/bin/R CMD INSTALL DESeq2 StartedAt: 2025-06-17 18:19:57 -0400 (Tue, 17 Jun 2025) EndedAt: 2025-06-17 18:20:37 -0400 (Tue, 17 Jun 2025) EllapsedTime: 39.9 seconds RetCode: 0 Status: OK