Package: DEXSeq Version: 1.55.0 Maintainer: Alejandro Reyes MaintainerEmail: alejandro.reyes.ds at gmail.com git_url: https://git.bioconductor.org/packages/DEXSeq git_branch: devel git_last_commit: ae72264 git_last_commit_date: 2025-04-15 10:08:49 -0400 (Tue, 15 Apr 2025)