Package: DEXSeq Version: 1.55.0 Command: /home/rapidbuild/bbs-3.22-bioc-rapid/R/bin/R CMD build --keep-empty-dirs --no-resave-data DEXSeq StartedAt: 2025-06-17 18:45:01 -0400 (Tue, 17 Jun 2025) EndedAt: 2025-06-17 18:46:37 -0400 (Tue, 17 Jun 2025) EllapsedTime: 96.3 seconds RetCode: 0 Status: OK PackageFile: DEXSeq_1.55.0.tar.gz PackageFileSize: 1.643 MiB