Package: DEXSeq Version: 1.55.0 Command: /home/rapidbuild/bbs-3.22-bioc-rapid/R/bin/R CMD INSTALL DEXSeq StartedAt: 2025-06-17 18:26:12 -0400 (Tue, 17 Jun 2025) EndedAt: 2025-06-17 18:26:44 -0400 (Tue, 17 Jun 2025) EllapsedTime: 32.9 seconds RetCode: 0 Status: OK