Package: DNAcopy Version: 1.83.0 Command: /home/rapidbuild/bbs-3.22-bioc-rapid/R/bin/R CMD build --keep-empty-dirs --no-resave-data DNAcopy StartedAt: 2025-06-17 18:46:09 -0400 (Tue, 17 Jun 2025) EndedAt: 2025-06-17 18:46:20 -0400 (Tue, 17 Jun 2025) EllapsedTime: 11.0 seconds RetCode: 0 Status: OK PackageFile: DNAcopy_1.83.0.tar.gz PackageFileSize: 404.7 KiB