Package: DOSE Version: 4.3.0 Command: /home/rapidbuild/bbs-3.22-bioc-rapid/R/bin/R CMD build --keep-empty-dirs --no-resave-data DOSE StartedAt: 2025-06-17 18:46:20 -0400 (Tue, 17 Jun 2025) EndedAt: 2025-06-17 18:46:48 -0400 (Tue, 17 Jun 2025) EllapsedTime: 27.9 seconds RetCode: 0 Status: OK PackageFile: DOSE_4.3.0.tar.gz PackageFileSize: 5.479 MiB