Package: DOSE Version: 4.3.0 Command: /home/rapidbuild/bbs-3.22-bioc-rapid/R/bin/R CMD INSTALL DOSE StartedAt: 2025-06-17 18:27:59 -0400 (Tue, 17 Jun 2025) EndedAt: 2025-06-17 18:28:19 -0400 (Tue, 17 Jun 2025) EllapsedTime: 20.2 seconds RetCode: 0 Status: OK