Package: DelayedArray Version: 0.35.1 Command: _R_CHECK_CODETOOLS_PROFILE_="suppressFundefMismatch=TRUE" /home/rapidbuild/bbs-3.22-bioc-rapid/R/bin/R CMD check --install=check:DelayedArray.install-out.txt --library=/home/rapidbuild/bbs-3.22-bioc-rapid/R/site-library --timings DelayedArray_0.35.1.tar.gz StartedAt: 2025-06-17 20:16:58 -0400 (Tue, 17 Jun 2025) EndedAt: 2025-06-17 20:38:31 -0400 (Tue, 17 Jun 2025) EllapsedTime: 1293.0 seconds RetCode: 0 Status: WARNINGS CheckDir: DelayedArray.Rcheck Warnings: 1