Package: DelayedMatrixStats Version: 1.31.0 Command: /home/rapidbuild/bbs-3.22-bioc-rapid/R/bin/R CMD check --install=check:DelayedMatrixStats.install-out.txt --library=/home/rapidbuild/bbs-3.22-bioc-rapid/R/site-library --timings DelayedMatrixStats_1.31.0.tar.gz StartedAt: 2025-06-17 20:18:01 -0400 (Tue, 17 Jun 2025) EndedAt: 2025-06-17 20:25:46 -0400 (Tue, 17 Jun 2025) EllapsedTime: 465.5 seconds RetCode: 0 Status: OK CheckDir: DelayedMatrixStats.Rcheck Warnings: 0