Package: DirichletMultinomial Version: 1.51.0 Command: /home/rapidbuild/bbs-3.22-bioc-rapid/R/bin/R CMD build --keep-empty-dirs --no-resave-data DirichletMultinomial StartedAt: 2025-06-17 18:45:51 -0400 (Tue, 17 Jun 2025) EndedAt: 2025-06-17 18:46:09 -0400 (Tue, 17 Jun 2025) EllapsedTime: 18.0 seconds RetCode: 0 Status: OK PackageFile: DirichletMultinomial_1.51.0.tar.gz PackageFileSize: 1.06 MiB