Package: DropletUtils Version: 1.29.3 Command: /home/rapidbuild/bbs-3.22-bioc-rapid/R/bin/R CMD build --keep-empty-dirs --no-resave-data DropletUtils StartedAt: 2025-06-17 18:46:38 -0400 (Tue, 17 Jun 2025) EndedAt: 2025-06-17 18:48:05 -0400 (Tue, 17 Jun 2025) EllapsedTime: 87.5 seconds RetCode: 0 Status: OK PackageFile: DropletUtils_1.29.3.tar.gz PackageFileSize: 592.3 KiB