Package: DropletUtils Version: 1.29.3 Command: /home/rapidbuild/bbs-3.22-bioc-rapid/R/bin/R CMD check --install=check:DropletUtils.install-out.txt --library=/home/rapidbuild/bbs-3.22-bioc-rapid/R/site-library --timings DropletUtils_1.29.3.tar.gz StartedAt: 2025-06-17 20:25:47 -0400 (Tue, 17 Jun 2025) EndedAt: 2025-06-17 20:31:45 -0400 (Tue, 17 Jun 2025) EllapsedTime: 358.8 seconds RetCode: 0 Status: WARNINGS CheckDir: DropletUtils.Rcheck Warnings: 1