Package: DropletUtils Version: 1.29.3 Command: /home/rapidbuild/bbs-3.22-bioc-rapid/R/bin/R CMD INSTALL DropletUtils StartedAt: 2025-06-17 18:21:45 -0400 (Tue, 17 Jun 2025) EndedAt: 2025-06-17 18:23:02 -0400 (Tue, 17 Jun 2025) EllapsedTime: 76.8 seconds RetCode: 0 Status: OK