Package: EBImage Version: 4.51.0 Command: /home/rapidbuild/bbs-3.22-bioc-rapid/R/bin/R CMD build --keep-empty-dirs --no-resave-data EBImage StartedAt: 2025-06-17 18:46:49 -0400 (Tue, 17 Jun 2025) EndedAt: 2025-06-17 18:47:13 -0400 (Tue, 17 Jun 2025) EllapsedTime: 24.3 seconds RetCode: 0 Status: OK PackageFile: EBImage_4.51.0.tar.gz PackageFileSize: 5.209 MiB