Package: EBarrays Version: 2.73.0 Command: /home/rapidbuild/bbs-3.22-bioc-rapid/R/bin/R CMD check --install=check:EBarrays.install-out.txt --library=/home/rapidbuild/bbs-3.22-bioc-rapid/R/site-library --timings EBarrays_2.73.0.tar.gz StartedAt: 2025-06-17 20:26:25 -0400 (Tue, 17 Jun 2025) EndedAt: 2025-06-17 20:27:19 -0400 (Tue, 17 Jun 2025) EllapsedTime: 54.0 seconds RetCode: 0 Status: OK CheckDir: EBarrays.Rcheck Warnings: 0