Package: EDASeq Version: 2.43.0 Command: /home/rapidbuild/bbs-3.22-bioc-rapid/R/bin/R CMD build --keep-empty-dirs --no-resave-data EDASeq StartedAt: 2025-06-17 18:46:58 -0400 (Tue, 17 Jun 2025) EndedAt: 2025-06-17 18:48:04 -0400 (Tue, 17 Jun 2025) EllapsedTime: 65.9 seconds RetCode: 0 Status: OK PackageFile: EDASeq_2.43.0.tar.gz PackageFileSize: 1.135 MiB