Package: EDASeq Version: 2.43.0 Command: /home/rapidbuild/bbs-3.22-bioc-rapid/R/bin/R CMD INSTALL EDASeq StartedAt: 2025-06-17 18:27:21 -0400 (Tue, 17 Jun 2025) EndedAt: 2025-06-17 18:27:59 -0400 (Tue, 17 Jun 2025) EllapsedTime: 38.1 seconds RetCode: 0 Status: OK