Package: EnrichedHeatmap Version: 1.39.0 Command: /home/rapidbuild/bbs-3.22-bioc-rapid/R/bin/R CMD build --keep-empty-dirs --no-resave-data EnrichedHeatmap StartedAt: 2025-06-17 18:48:04 -0400 (Tue, 17 Jun 2025) EndedAt: 2025-06-17 18:52:18 -0400 (Tue, 17 Jun 2025) EllapsedTime: 254.1 seconds RetCode: 0 Status: OK PackageFile: EnrichedHeatmap_1.39.0.tar.gz PackageFileSize: 11.63 MiB