Package: EnrichedHeatmap Version: 1.39.0 Command: /home/rapidbuild/bbs-3.22-bioc-rapid/R/bin/R CMD INSTALL EnrichedHeatmap StartedAt: 2025-06-17 18:25:10 -0400 (Tue, 17 Jun 2025) EndedAt: 2025-06-17 18:25:27 -0400 (Tue, 17 Jun 2025) EllapsedTime: 16.4 seconds RetCode: 0 Status: OK