Package: ExperimentHub Version: 2.99.5 Command: /home/rapidbuild/bbs-3.22-bioc-rapid/R/bin/R CMD build --keep-empty-dirs --no-resave-data ExperimentHub StartedAt: 2025-06-17 18:48:56 -0400 (Tue, 17 Jun 2025) EndedAt: 2025-06-17 18:49:26 -0400 (Tue, 17 Jun 2025) EllapsedTime: 30.0 seconds RetCode: 0 Status: OK PackageFile: ExperimentHub_2.99.5.tar.gz PackageFileSize: 490.2 KiB