Package: ExperimentHubData Version: 1.35.0 Command: /home/rapidbuild/bbs-3.22-bioc-rapid/R/bin/R CMD INSTALL ExperimentHubData StartedAt: 2025-06-17 18:28:37 -0400 (Tue, 17 Jun 2025) EndedAt: 2025-06-17 18:29:14 -0400 (Tue, 17 Jun 2025) EllapsedTime: 37.3 seconds RetCode: 0 Status: OK