Package: GEOquery Version: 2.77.0 Command: /home/rapidbuild/bbs-3.22-bioc-rapid/R/bin/R CMD build --keep-empty-dirs --no-resave-data GEOquery StartedAt: 2025-06-17 19:00:07 -0400 (Tue, 17 Jun 2025) EndedAt: 2025-06-17 19:01:04 -0400 (Tue, 17 Jun 2025) EllapsedTime: 57.6 seconds RetCode: 0 Status: OK PackageFile: GEOquery_2.77.0.tar.gz PackageFileSize: 13.07 MiB