Package: GEOquery Version: 2.77.0 Command: /home/rapidbuild/bbs-3.22-bioc-rapid/R/bin/R CMD check --install=check:GEOquery.install-out.txt --library=/home/rapidbuild/bbs-3.22-bioc-rapid/R/site-library --timings GEOquery_2.77.0.tar.gz StartedAt: 2025-06-17 20:48:47 -0400 (Tue, 17 Jun 2025) EndedAt: 2025-06-17 20:54:09 -0400 (Tue, 17 Jun 2025) EllapsedTime: 321.8 seconds RetCode: 0 Status: OK CheckDir: GEOquery.Rcheck Warnings: 0