Package: GOstats Version: 2.75.0 Command: /home/rapidbuild/bbs-3.22-bioc-rapid/R/bin/R CMD build --keep-empty-dirs --no-resave-data GOstats StartedAt: 2025-06-17 19:02:20 -0400 (Tue, 17 Jun 2025) EndedAt: 2025-06-17 19:10:27 -0400 (Tue, 17 Jun 2025) EllapsedTime: 487.5 seconds RetCode: 1 Status: ERROR PackageFile: None PackageFileSize: NA