Package: GOstats Version: 2.75.0 Command: /home/rapidbuild/bbs-3.22-bioc-rapid/R/bin/R CMD INSTALL GOstats StartedAt: 2025-06-17 18:27:24 -0400 (Tue, 17 Jun 2025) EndedAt: 2025-06-17 18:27:43 -0400 (Tue, 17 Jun 2025) EllapsedTime: 19.7 seconds RetCode: 0 Status: OK