Package: GSEABase Version: 1.71.0 Command: /home/rapidbuild/bbs-3.22-bioc-rapid/R/bin/R CMD build --keep-empty-dirs --no-resave-data GSEABase StartedAt: 2025-06-17 19:03:16 -0400 (Tue, 17 Jun 2025) EndedAt: 2025-06-17 19:04:13 -0400 (Tue, 17 Jun 2025) EllapsedTime: 57.0 seconds RetCode: 0 Status: OK PackageFile: GSEABase_1.71.0.tar.gz PackageFileSize: 292.5 KiB