Package: GSVA Version: 2.3.1 Command: /home/rapidbuild/bbs-3.22-bioc-rapid/R/bin/R CMD build --keep-empty-dirs --no-resave-data GSVA StartedAt: 2025-06-17 19:04:13 -0400 (Tue, 17 Jun 2025) EndedAt: 2025-06-17 19:05:57 -0400 (Tue, 17 Jun 2025) EllapsedTime: 103.4 seconds RetCode: 0 Status: OK PackageFile: GSVA_2.3.1.tar.gz PackageFileSize: 2.611 MiB