Package: GSVA Version: 2.3.1 Command: /home/rapidbuild/bbs-3.22-bioc-rapid/R/bin/R CMD INSTALL GSVA StartedAt: 2025-06-17 18:27:59 -0400 (Tue, 17 Jun 2025) EndedAt: 2025-06-17 18:28:35 -0400 (Tue, 17 Jun 2025) EllapsedTime: 35.8 seconds RetCode: 0 Status: OK