Package: GenomeInfoDb Version: 1.45.4 Command: /home/rapidbuild/bbs-3.22-bioc-rapid/R/bin/R CMD INSTALL GenomeInfoDb StartedAt: 2025-06-17 18:17:44 -0400 (Tue, 17 Jun 2025) EndedAt: 2025-06-17 18:17:55 -0400 (Tue, 17 Jun 2025) EllapsedTime: 11.2 seconds RetCode: 0 Status: OK