Package: GenomicFeatures Version: 1.61.3 Maintainer: H. Pagès MaintainerEmail: hpages.on.github at gmail.com git_url: https://git.bioconductor.org/packages/GenomicFeatures git_branch: devel git_last_commit: 4b7c91a git_last_commit_date: 2025-05-31 01:51:11 -0400 (Sat, 31 May 2025)