Package: GenomicFeatures Version: 1.61.3 Command: /home/rapidbuild/bbs-3.22-bioc-rapid/R/bin/R CMD build --keep-empty-dirs --no-resave-data GenomicFeatures StartedAt: 2025-06-17 18:58:47 -0400 (Tue, 17 Jun 2025) EndedAt: 2025-06-17 19:00:07 -0400 (Tue, 17 Jun 2025) EllapsedTime: 79.7 seconds RetCode: 0 Status: OK PackageFile: GenomicFeatures_1.61.3.tar.gz PackageFileSize: 555.4 KiB