Package: GenomicFeatures Version: 1.61.3 Command: /home/rapidbuild/bbs-3.22-bioc-rapid/R/bin/R CMD INSTALL GenomicFeatures StartedAt: 2025-06-17 18:26:14 -0400 (Tue, 17 Jun 2025) EndedAt: 2025-06-17 18:26:47 -0400 (Tue, 17 Jun 2025) EllapsedTime: 32.9 seconds RetCode: 0 Status: OK