Package: GenomicRanges Version: 1.61.0 Command: /home/rapidbuild/bbs-3.22-bioc-rapid/R/bin/R CMD build --keep-empty-dirs --no-resave-data GenomicRanges StartedAt: 2025-06-17 18:58:53 -0400 (Tue, 17 Jun 2025) EndedAt: 2025-06-17 19:02:20 -0400 (Tue, 17 Jun 2025) EllapsedTime: 206.5 seconds RetCode: 0 Status: OK PackageFile: GenomicRanges_1.61.0.tar.gz PackageFileSize: 1.308 MiB