Package: GenomicRanges Version: 1.61.0 Command: /home/rapidbuild/bbs-3.22-bioc-rapid/R/bin/R CMD INSTALL GenomicRanges StartedAt: 2025-06-17 18:18:03 -0400 (Tue, 17 Jun 2025) EndedAt: 2025-06-17 18:18:19 -0400 (Tue, 17 Jun 2025) EllapsedTime: 16.2 seconds RetCode: 0 Status: OK