Package: Gviz Version: 1.53.0 Command: /home/rapidbuild/bbs-3.22-bioc-rapid/R/bin/R CMD build --keep-empty-dirs --no-resave-data Gviz StartedAt: 2025-06-17 19:04:18 -0400 (Tue, 17 Jun 2025) EndedAt: 2025-06-17 19:07:38 -0400 (Tue, 17 Jun 2025) EllapsedTime: 200.0 seconds RetCode: 0 Status: OK PackageFile: Gviz_1.53.0.tar.gz PackageFileSize: 7.319 MiB