Package: HDF5Array Version: 1.37.0 Command: /home/rapidbuild/bbs-3.22-bioc-rapid/R/bin/R CMD check --install=check:HDF5Array.install-out.txt --library=/home/rapidbuild/bbs-3.22-bioc-rapid/R/site-library --timings HDF5Array_1.37.0.tar.gz StartedAt: 2025-06-17 20:59:09 -0400 (Tue, 17 Jun 2025) EndedAt: 2025-06-17 21:14:58 -0400 (Tue, 17 Jun 2025) EllapsedTime: 949.7 seconds RetCode: 0 Status: OK CheckDir: HDF5Array.Rcheck Warnings: 0