Package: IRanges Version: 2.43.0 Command: /home/rapidbuild/bbs-3.22-bioc-rapid/R/bin/R CMD INSTALL IRanges StartedAt: 2025-06-17 18:11:43 -0400 (Tue, 17 Jun 2025) EndedAt: 2025-06-17 18:12:34 -0400 (Tue, 17 Jun 2025) EllapsedTime: 50.7 seconds RetCode: 0 Status: OK