Package: KEGGREST Version: 1.49.0 Command: /home/rapidbuild/bbs-3.22-bioc-rapid/R/bin/R CMD build --keep-empty-dirs --no-resave-data KEGGREST StartedAt: 2025-06-17 19:11:01 -0400 (Tue, 17 Jun 2025) EndedAt: 2025-06-17 19:11:30 -0400 (Tue, 17 Jun 2025) EllapsedTime: 28.3 seconds RetCode: 0 Status: OK PackageFile: KEGGREST_1.49.0.tar.gz PackageFileSize: 233.5 KiB