Package: KEGGREST Version: 1.49.0 Command: /home/rapidbuild/bbs-3.22-bioc-rapid/R/bin/R CMD INSTALL KEGGREST StartedAt: 2025-06-17 18:21:33 -0400 (Tue, 17 Jun 2025) EndedAt: 2025-06-17 18:21:41 -0400 (Tue, 17 Jun 2025) EllapsedTime: 8.2 seconds RetCode: 0 Status: OK