Package: LoomExperiment Version: 1.27.0 Command: /home/rapidbuild/bbs-3.22-bioc-rapid/R/bin/R CMD build --keep-empty-dirs --no-resave-data LoomExperiment StartedAt: 2025-06-17 19:11:30 -0400 (Tue, 17 Jun 2025) EndedAt: 2025-06-17 19:12:09 -0400 (Tue, 17 Jun 2025) EllapsedTime: 38.6 seconds RetCode: 0 Status: OK PackageFile: LoomExperiment_1.27.0.tar.gz PackageFileSize: 253 KiB