Package: LoomExperiment Version: 1.27.0 Command: /home/rapidbuild/bbs-3.22-bioc-rapid/R/bin/R CMD INSTALL LoomExperiment StartedAt: 2025-06-17 18:19:08 -0400 (Tue, 17 Jun 2025) EndedAt: 2025-06-17 18:19:32 -0400 (Tue, 17 Jun 2025) EllapsedTime: 24.6 seconds RetCode: 0 Status: OK