Package: MassSpecWavelet Version: 1.75.1 Command: /home/rapidbuild/bbs-3.22-bioc-rapid/R/bin/R CMD build --keep-empty-dirs --no-resave-data MassSpecWavelet StartedAt: 2025-06-17 19:12:09 -0400 (Tue, 17 Jun 2025) EndedAt: 2025-06-17 19:12:49 -0400 (Tue, 17 Jun 2025) EllapsedTime: 40.0 seconds RetCode: 0 Status: OK PackageFile: MassSpecWavelet_1.75.1.tar.gz PackageFileSize: 2.172 MiB