Package: MsBackendMgf Version: 1.17.0 Command: /home/rapidbuild/bbs-3.22-bioc-rapid/R/bin/R CMD build --keep-empty-dirs --no-resave-data MsBackendMgf StartedAt: 2025-06-17 19:15:01 -0400 (Tue, 17 Jun 2025) EndedAt: 2025-06-17 19:15:17 -0400 (Tue, 17 Jun 2025) EllapsedTime: 16.0 seconds RetCode: 0 Status: OK PackageFile: MsBackendMgf_1.17.0.tar.gz PackageFileSize: 335.8 KiB