Package: MsBackendMgf Version: 1.17.0 Command: /home/rapidbuild/bbs-3.22-bioc-rapid/R/bin/R CMD INSTALL MsBackendMgf StartedAt: 2025-06-17 18:17:26 -0400 (Tue, 17 Jun 2025) EndedAt: 2025-06-17 18:17:38 -0400 (Tue, 17 Jun 2025) EllapsedTime: 11.3 seconds RetCode: 0 Status: OK