Package: MsDataHub Version: 1.9.0 Maintainer: Laurent Gatto MaintainerEmail: laurent.gatto at uclouvain.be git_url: https://git.bioconductor.org/packages/MsDataHub git_branch: devel git_last_commit: 085857f git_last_commit_date: 2025-04-15 13:11:19 -0400 (Tue, 15 Apr 2025)